2.55124345857292
0
0
-2.55124345857255
539987.812359198
4830212.03269278
