3.21653389690763
0
0
-3.21653389690771
542474.860332945
4800217.22007661
