1.50057918558089
0
0
-1.50057918558062
554976.398397463
4800222.5411025
