2.05648329141381
0
0
-2.056483291414
554974.460395052
4795224.61567141
