2.05649404314452
0
0
-2.05649404314461
542478.8897835
4800222.0226527
