1.51372465613059
0
0
-1.51372465613079
544979.502692496
4805218.72221655
