1.52903131866543
0
0
-1.52903131866557
549980.820163567
4795219.88395178
