1.79458372963228
0
0
-1.79458372963206
554977.16993803
4795218.9992993
