1.60624143413748
0
0
-1.60624143413778
552472.018786172
4800227.81470101
