1.50910945555475
0
0
-1.50910945555486
537479.782146486
4827711.8295519
